BEGIN:VCALENDAR
VERSION:2.0
PRODID:-//PragueToday - ECPv6.0.3.1//NONSGML v1.0//EN
CALSCALE:GREGORIAN
METHOD:PUBLISH
X-WR-CALNAME:PragueToday
X-ORIGINAL-URL:http://praguetoday.net/ru/
X-WR-CALDESC:Мероприятия для PragueToday
REFRESH-INTERVAL;VALUE=DURATION:PT1H
X-Robots-Tag:noindex
X-PUBLISHED-TTL:PT1H
BEGIN:VTIMEZONE
TZID:UTC
BEGIN:STANDARD
TZOFFSETFROM:+0000
TZOFFSETTO:+0000
TZNAME:UTC
DTSTART:20190101T000000
END:STANDARD
END:VTIMEZONE
BEGIN:VEVENT
DTSTART;TZID=UTC:20190605T080000
DTEND;TZID=UTC:20190605T170000
DTSTAMP:20260423T174629
CREATED:20190605T192218Z
LAST-MODIFIED:20190605T192218Z
UID:11479-1559721600-1559754000@praguetoday.net
SUMMARY:События в Праге на неделю ⤵
DESCRIPTION: 6-16 июня — Prague Quadrennial  Более 600 живых выступлений\, бесед\, презентаций\, мастер-классов и семинаров.Где: Areál Výstaviště\, Praha 7. Инфо: https://www.pq.cz/ \n 8 июня — Prague Museum Night  Музеи\, галереи и другие культурные учреждения будут открыты для жителей и гостей Праги.  Где: Разные места.  Бесплатный вход. Инфо: www.prazskamuzejninoc.cz⠀ \n до 22 июня — Festival of Contemporary Dance and Movement Theatre TANEC PRAHA  Фестиваль современной зарубежной и чешской танцевальной сцены. Где: Разные места. \n 8 июня — Mattoni Grand Drink World Championship 2019 and Mattoni Cocktail Festival  Безалкогольные коктейли\, бармен-шоу\, музыка.  Где: Staroměstské náměstí\, Praha 1\, 14:15 — 22:00.  Бесплатный вход.⠀ \n до 30 сентября — Festival m³ / Art in Space Инсталляции молодых артистов в общественных местах Праги.Где: Разные места. \n 8 июня — Festival Of The Embassies: Food And Culture Продукты из разных уголков мира и чешские традиционные фермерские рынки. Где: Vítězné náměstí\, Praha 6\, 8:00-18:00.  Бесплатный вход.\n⠀\n 7 июня — Выставка художника Рината Анимаева «Просто реализм»  Ринат Анимаев-один из ведущих художников Франции.  Где: Na Zátorce 16\, Praha 6\, 18:00.  Бесплатный вход.\n⠀\n 8 июня — Smíchov Festivities  Футбольные и регбийные матчи\, экскурсии\, дегустация пива и многое другое на праздновании юбилея со дня основании пивоварни Smíchov.  Где: Nádražní 84\, Praha 5\, 13:30-18:00.  Билеты: 150 крон.\n⠀ ⠀\n до 8 сентября — Anežka LIVE!  Концерты\, выставки\, показы и различные спортивные мероприятия.  Где: Anežská 12\, Praha 1.  Бесплатный вход.\n⠀ ⠀\n 8 июня — Holi Open Air  Фестиваль красок Холи. Где: Střelecký ostrov\, Praha 1.
URL:http://praguetoday.net/ru/event/%d1%81%d0%be%d0%b1%d1%8b%d1%82%d0%b8%d1%8f-%d0%b2-%d0%bf%d1%80%d0%b0%d0%b3%d0%b5-%d0%bd%d0%b0-%d0%bd%d0%b5%d0%b4%d0%b5%d0%bb%d1%8e-%e2%a4%b5/
END:VEVENT
END:VCALENDAR