BEGIN:VCALENDAR
VERSION:2.0
PRODID:-//PragueToday - ECPv6.0.3.1//NONSGML v1.0//EN
CALSCALE:GREGORIAN
METHOD:PUBLISH
X-WR-CALNAME:PragueToday
X-ORIGINAL-URL:http://praguetoday.net
X-WR-CALDESC:Events for PragueToday
REFRESH-INTERVAL;VALUE=DURATION:PT1H
X-Robots-Tag:noindex
X-PUBLISHED-TTL:PT1H
BEGIN:VTIMEZONE
TZID:UTC
BEGIN:STANDARD
TZOFFSETFROM:+0000
TZOFFSETTO:+0000
TZNAME:UTC
DTSTART:20190101T000000
END:STANDARD
END:VTIMEZONE
BEGIN:VEVENT
DTSTART;TZID=UTC:20190605T080000
DTEND;TZID=UTC:20190605T170000
DTSTAMP:20260423T174731
CREATED:20190605T191900Z
LAST-MODIFIED:20190605T191901Z
UID:11475-1559721600-1559754000@praguetoday.net
SUMMARY:Events in Prague for a week ⤵
DESCRIPTION: 6-16 June – Prague Quadrennial  More than 600 live performances\, talks\, presentations\, masterclasses\, and workshops.Where: Areál Výstaviště\, Praha 7. Info: https://www.pq.cz/ \n 8 June – Prague Museum Night  Museums\, galleries and other cultural institutions will be open to Prague residents and visitors.  Where: Various places.  Admission is free. Info: www.prazskamuzejninoc.cz⠀ \n till 22 June – Festival of Contemporary Dance and Movement Theatre TANEC PRAHA  Diversity and quality of the contemporary foreign and domestic dance scene. Where: Various places. \n 8 June – Mattoni Grand Drink World Championship 2019 and Mattoni Cocktail Festival  Alcohol-free cocktails\, barman show\, music.  Where: Staroměstské náměstí\, Praha 1\, 14:15 – 22:00.  Admission is free.⠀ \n till 30 September – Festival m³ / Art in Space Installations of young artists in public spaces.Where: Various places. \n 8 June – Festival Of The Embassies: Food And Culture Specialities from different parts of the world + Czech traditional farmer markets. Where: Vítězné náměstí\, Praha 6\, 8:00-18:00.  Admission is free.\n⠀\n till 26 June – American Spring  Classical and jazz concerts\, debates\, exhibitions\, theatre performances and screnings.  Where: Various places.\n⠀\n 8 June – Smíchov Festivities  Football and rugby matches\, guided tours of the brewery and beer.  Where: Nádražní 84\, Praha 5\, 13:30-18:00.  Tickets – 150 czk.\n⠀ ⠀\n till 8 September – Anežka LIVE!  Concerts\, exhibitions\, screenings and different sport activities enliven the revitalised gardens.  Where: Anežská 12\, Praha 1.  Admission is free.\n⠀ ⠀\n 8 June – Holi Open Air  Open-air festival of colours\, party with electronic dance music.  Where: Střelecký ostrov\, Praha 1.\n⠀\n 12-14 June – FEST-END  Festival of English Speaking Drama.  Where: Štefánikova 57\, Praha 5. Info: http://www.svandovodivadlo.cz/repertoar/festivaly/113/fest-end
URL:http://praguetoday.net/event/events-in-prague-for-a-week-%e2%a4%b5/
LOCATION:Events in Prague for a week ⤵
CATEGORIES:Weekend tips
END:VEVENT
BEGIN:VEVENT
DTSTART;TZID=UTC:20190220T080000
DTEND;TZID=UTC:20190220T190000
DTSTAMP:20260423T174731
CREATED:20190208T233320Z
LAST-MODIFIED:20190208T233320Z
UID:10579-1550649600-1550689200@praguetoday.net
SUMMARY:Carnival (Masopust) Festivities at Anděl
DESCRIPTION:Traditional festival: roasted and smoked pork and other kinds of meat\, liver or blood sausages\, traditional soups\, mulled wine and desserts. \nMusic performances and workshops for children.
URL:http://praguetoday.net/event/masopust-andel2019/
LOCATION:Anděl Pedestrian Zone\, Anděl Pedestrian Zone\, metro Anděl\, Praha 5\, Prague\, Czech Republic
CATEGORIES:Festival,Food market
END:VEVENT
BEGIN:VEVENT
DTSTART;TZID=UTC:20190209T090000
DTEND;TZID=UTC:20190209T140000
DTSTAMP:20260423T174731
CREATED:20190208T225134Z
LAST-MODIFIED:20190208T225134Z
UID:10542-1549702800-1549720800@praguetoday.net
SUMMARY:Farmers’ Markets Heřmaňák
DESCRIPTION:Seasonal fruit and vegetables\, breas\, dairy products\, Czech specialities\, etc.\, handicrafts
URL:http://praguetoday.net/event/farmers-markets-hermanak/
LOCATION:Heřmaňák\, Řezáčovo náměstí\, Praha 7\, Prague\, Czech Republic
CATEGORIES:Food market
END:VEVENT
BEGIN:VEVENT
DTSTART;TZID=UTC:20190209T080000
DTEND;TZID=UTC:20190209T140000
DTSTAMP:20260423T174731
CREATED:20190208T224813Z
LAST-MODIFIED:20190208T224813Z
UID:10541-1549699200-1549720800@praguetoday.net
SUMMARY:Saturday Farmers' Markets on Náplavka
DESCRIPTION:Seasonal fruit and vegetables\, breas\, dairy products\, Czech specialities\, etc.\, handicrafts
URL:http://praguetoday.net/event/saturday-farmers-markets-naplavka/
LOCATION:Náplavka\, Rašínovo nábřeží\, Praha 2\, Prague\, Czech Republic
CATEGORIES:Food market
END:VEVENT
END:VCALENDAR