BEGIN:VCALENDAR
VERSION:2.0
PRODID:-//PragueToday - ECPv6.0.3.1//NONSGML v1.0//EN
CALSCALE:GREGORIAN
METHOD:PUBLISH
X-WR-CALNAME:PragueToday
X-ORIGINAL-URL:http://praguetoday.net
X-WR-CALDESC:Events for PragueToday
REFRESH-INTERVAL;VALUE=DURATION:PT1H
X-Robots-Tag:noindex
X-PUBLISHED-TTL:PT1H
BEGIN:VTIMEZONE
TZID:UTC
BEGIN:STANDARD
TZOFFSETFROM:+0000
TZOFFSETTO:+0000
TZNAME:UTC
DTSTART:20190101T000000
END:STANDARD
END:VTIMEZONE
BEGIN:VEVENT
DTSTART;VALUE=DATE:20190309
DTEND;VALUE=DATE:20190311
DTSTAMP:20260423T174729
CREATED:20190209T212614Z
LAST-MODIFIED:20190209T212614Z
UID:10630-1552089600-1552262399@praguetoday.net
SUMMARY:Around the World
DESCRIPTION:  \nAt the biggest travellers festival in Czech Republic visitors can see the traveller’s presentation\, enjoy photo workshop\, try exotic food and meet with over 100 different presenters. Only some exceptional programs are in English. \n 
URL:http://praguetoday.net/event/around-the-world/
LOCATION:PVA EXPO PRAHA\, Beranových 667\, Praha 9 – Letňany\, 190 00
CATEGORIES:Festival
END:VEVENT
END:VCALENDAR