BEGIN:VCALENDAR
VERSION:2.0
PRODID:-//PragueToday - ECPv6.0.3.1//NONSGML v1.0//EN
CALSCALE:GREGORIAN
METHOD:PUBLISH
X-WR-CALNAME:PragueToday
X-ORIGINAL-URL:http://praguetoday.net
X-WR-CALDESC:Events for PragueToday
REFRESH-INTERVAL;VALUE=DURATION:PT1H
X-Robots-Tag:noindex
X-PUBLISHED-TTL:PT1H
BEGIN:VTIMEZONE
TZID:UTC
BEGIN:STANDARD
TZOFFSETFROM:+0000
TZOFFSETTO:+0000
TZNAME:UTC
DTSTART:20190101T000000
END:STANDARD
END:VTIMEZONE
BEGIN:VEVENT
DTSTART;TZID=UTC:20190302T130000
DTEND;TZID=UTC:20190302T180000
DTSTAMP:20260423T190256
CREATED:20190208T234826Z
LAST-MODIFIED:20190209T001149Z
UID:10598-1551531600-1551549600@praguetoday.net
SUMMARY:Carnival (Masopust) Parade at Lesser Town
DESCRIPTION:Traditional carnival parade will go from the Loretánské Square to Kampa\, then through the Lesser Town and finally stopping at Kampa. \nMasks will be accompanied by the famous Prague funfair orchestra. \nAt Kampa\, you’ll find stands with mulled wine\, pork delicacies\, etc.
URL:http://praguetoday.net/event/carnival-masopust-parade-lesser-town/
LOCATION:Malá Strana\, Kampa\, Praha 1\, Prague\, Czech Republic
CATEGORIES:Festival,Traditions
END:VEVENT
BEGIN:VEVENT
DTSTART;TZID=UTC:20190220T080000
DTEND;TZID=UTC:20190220T190000
DTSTAMP:20260423T190256
CREATED:20190208T233320Z
LAST-MODIFIED:20190208T233320Z
UID:10579-1550649600-1550689200@praguetoday.net
SUMMARY:Carnival (Masopust) Festivities at Anděl
DESCRIPTION:Traditional festival: roasted and smoked pork and other kinds of meat\, liver or blood sausages\, traditional soups\, mulled wine and desserts. \nMusic performances and workshops for children.
URL:http://praguetoday.net/event/masopust-andel2019/
LOCATION:Anděl Pedestrian Zone\, Anděl Pedestrian Zone\, metro Anděl\, Praha 5\, Prague\, Czech Republic
CATEGORIES:Festival,Food market
END:VEVENT
END:VCALENDAR