BEGIN:VCALENDAR
VERSION:2.0
PRODID:-//PragueToday - ECPv6.0.3.1//NONSGML v1.0//EN
CALSCALE:GREGORIAN
METHOD:PUBLISH
X-WR-CALNAME:PragueToday
X-ORIGINAL-URL:http://praguetoday.net
X-WR-CALDESC:Events for PragueToday
REFRESH-INTERVAL;VALUE=DURATION:PT1H
X-Robots-Tag:noindex
X-PUBLISHED-TTL:PT1H
BEGIN:VTIMEZONE
TZID:UTC
BEGIN:STANDARD
TZOFFSETFROM:+0000
TZOFFSETTO:+0000
TZNAME:UTC
DTSTART:20190101T000000
END:STANDARD
END:VTIMEZONE
BEGIN:VEVENT
DTSTART;TZID=UTC:20190213T150000
DTEND;TZID=UTC:20190214T233000
DTSTAMP:20260423T190325
CREATED:20190208T230720Z
LAST-MODIFIED:20190208T230755Z
UID:10559-1550070000-1550187000@praguetoday.net
SUMMARY:Prague Love Fest
DESCRIPTION:Prague Love Fest.\nMusic performances\, wine tasting\, fashion shows\, contests\, food\, drinks\, etc.
URL:http://praguetoday.net/event/prague-love-fest/
LOCATION:Pragovka\, Pragovka Art District\, Kolbenova 34a\, Praha 9\, Prague\, Czech Republic
CATEGORIES:Festival
END:VEVENT
END:VCALENDAR