BEGIN:VCALENDAR
VERSION:2.0
PRODID:-//PragueToday - ECPv6.0.3.1//NONSGML v1.0//EN
CALSCALE:GREGORIAN
METHOD:PUBLISH
X-WR-CALNAME:PragueToday
X-ORIGINAL-URL:http://praguetoday.net
X-WR-CALDESC:Events for PragueToday
REFRESH-INTERVAL;VALUE=DURATION:PT1H
X-Robots-Tag:noindex
X-PUBLISHED-TTL:PT1H
BEGIN:VTIMEZONE
TZID:UTC
BEGIN:STANDARD
TZOFFSETFROM:+0000
TZOFFSETTO:+0000
TZNAME:UTC
DTSTART:20190101T000000
END:STANDARD
END:VTIMEZONE
BEGIN:VEVENT
DTSTART;TZID=UTC:20190209T140000
DTEND;TZID=UTC:20190209T190000
DTSTAMP:20260423T190326
CREATED:20190208T221216Z
LAST-MODIFIED:20190208T221216Z
UID:10520-1549720800-1549738800@praguetoday.net
SUMMARY:Tibetan New Year Losar 2146
DESCRIPTION:Tibetan New Year Losar 2146 🎪 Program for the whole family
URL:http://praguetoday.net/event/losar2018/
LOCATION:New Town Hall\, Karlovo náměstí 1/23\, Praha 2\, Prague\, Czech Republic
END:VEVENT
END:VCALENDAR