BEGIN:VCALENDAR
VERSION:2.0
PRODID:-//PragueToday - ECPv6.0.3.1//NONSGML v1.0//EN
CALSCALE:GREGORIAN
METHOD:PUBLISH
X-WR-CALNAME:PragueToday
X-ORIGINAL-URL:http://praguetoday.net
X-WR-CALDESC:Events for PragueToday
REFRESH-INTERVAL;VALUE=DURATION:PT1H
X-Robots-Tag:noindex
X-PUBLISHED-TTL:PT1H
BEGIN:VTIMEZONE
TZID:UTC
BEGIN:STANDARD
TZOFFSETFROM:+0000
TZOFFSETTO:+0000
TZNAME:UTC
DTSTART:20190101T000000
END:STANDARD
END:VTIMEZONE
BEGIN:VEVENT
DTSTART;TZID=UTC:20190208T100000
DTEND;TZID=UTC:20190331T180000
DTSTAMP:20260423T203026
CREATED:20190209T000122Z
LAST-MODIFIED:20190209T000334Z
UID:10604-1549620000-1554055200@praguetoday.net
SUMMARY:Arthur Jafa in Galerie Rudolfinum
DESCRIPTION:The first exhibition by the acclaimed American filmmaker\, cinematographer and artist Arthur Jafa in the Czech Republic. \nJafa has developed a dynamic and multi-disciplinary practice comprising films\, artefacts and happenings\, trying to answer the question how culture perfoms identity and race. \n\n\n\nOpen every day except Monday\n10:00–18:00
URL:http://praguetoday.net/event/arthur-jafa-galerie-rudolfinum/
LOCATION:Galerie Rudolfinum\, Alšovo nábř. 1/79/12\, 110 00 Staré Město\, Prague\, Czech Republic
CATEGORIES:Exhibition
END:VEVENT
BEGIN:VEVENT
DTSTART;TZID=UTC:20190208T100000
DTEND;TZID=UTC:20190215T180000
DTSTAMP:20260423T203026
CREATED:20190208T230343Z
LAST-MODIFIED:20190208T230343Z
UID:10557-1549620000-1550253600@praguetoday.net
SUMMARY:Heart in the Tower
DESCRIPTION:Exhibition Heart in the Tower\nAdmission is free ✅
URL:http://praguetoday.net/event/heart-in-the-tower/
LOCATION:Letenská vodárna\, Letenská vodárna\, Na Výšinách 1000/1\, Praha 7\, Prague\, Czech Republic
CATEGORIES:Exhibition
END:VEVENT
END:VCALENDAR